BEGIN:VCALENDAR
VERSION:2.0
PRODID:-//Change Matrix - ECPv6.15.20//NONSGML v1.0//EN
CALSCALE:GREGORIAN
METHOD:PUBLISH
X-ORIGINAL-URL:https://changematrix.org
X-WR-CALDESC:Events for Change Matrix
REFRESH-INTERVAL;VALUE=DURATION:PT1H
X-Robots-Tag:noindex
X-PUBLISHED-TTL:PT1H
BEGIN:VTIMEZONE
TZID:America/Denver
BEGIN:DAYLIGHT
TZOFFSETFROM:-0700
TZOFFSETTO:-0600
TZNAME:MDT
DTSTART:20230312T090000
END:DAYLIGHT
BEGIN:STANDARD
TZOFFSETFROM:-0600
TZOFFSETTO:-0700
TZNAME:MST
DTSTART:20231105T080000
END:STANDARD
BEGIN:DAYLIGHT
TZOFFSETFROM:-0700
TZOFFSETTO:-0600
TZNAME:MDT
DTSTART:20240310T090000
END:DAYLIGHT
BEGIN:STANDARD
TZOFFSETFROM:-0600
TZOFFSETTO:-0700
TZNAME:MST
DTSTART:20241103T080000
END:STANDARD
BEGIN:DAYLIGHT
TZOFFSETFROM:-0700
TZOFFSETTO:-0600
TZNAME:MDT
DTSTART:20250309T090000
END:DAYLIGHT
BEGIN:STANDARD
TZOFFSETFROM:-0600
TZOFFSETTO:-0700
TZNAME:MST
DTSTART:20251102T080000
END:STANDARD
END:VTIMEZONE
BEGIN:VEVENT
DTSTART;TZID=America/Denver:20240822T153000
DTEND;TZID=America/Denver:20240822T170000
DTSTAMP:20260424T074000
CREATED:20240819T183022Z
LAST-MODIFIED:20240819T195606Z
UID:15449-1724340600-1724346000@changematrix.org
SUMMARY:Championing Students Through Change Series\, Session 3
DESCRIPTION:In this last session\, Oriana and Melissa will focus on trauma-sensitive and culturally responsive strategies for welcoming students back to school from juvenile justice system involvement. MHTTC goal is to equip you with the tools and knowledge needed to create nurturing environments that uplift students and foster their resilience as they navigate these significant transitions. \nMHTTC will explore practical strategies for supporting students transitioning to and from programs and institutions and provide participants with the skills to promote a sense of belonging and resilience among students during these pivotal times. Key questions MHTTC will address include: \n\nHow can school staff prepare themselves and students to welcome youth back from institutional settings?\nWhat unique challenges do students face when returning to school?\nWhat unique strengths do students bring to us as school leaders when returning to their school?\n\nJoin MHTTC to build your capacity to champion students through times of transition. Whether you’re an educator\, administrator\, school mental health professional\, or youth advocate\, you’ll walk away with deepened empathy\, practical tools\, and a network of support. \n  \nRegister Now!
URL:https://changematrix.org/event/championing-students-through-change-series-session-3/
LOCATION:Virtual\, United States
ATTACH;FMTTYPE=image/png:https://changematrix.org/wp-content/uploads/Students-picture-for-event.png
END:VEVENT
END:VCALENDAR